BEGIN:VCALENDAR
VERSION:2.0
PRODID:-//eventon.com NONSGML v1.0//EN
CALSCALE:GREGORIAN
METHOD:PUBLISH
BEGIN:VEVENT
UID:69ea3aa98decf
DTSTAMP:20260423T152841Z
DTSTART:20231128
DTEND:20231129
LOCATION:
SUMMARY:Guidepost Montessori (Irvine\,  CA)
DESCRIPTION:Guidepost Montessori (Irvine\,  CA)\nhttps://chasingchildhooddo
 c.com/events/guidepost-montessori-irvine-ca/
URL:https://chasingchildhooddoc.com/events/guidepost-montessori-irvine-ca/
END:VEVENT
END:VCALENDAR