BEGIN:VCALENDAR
VERSION:2.0
PRODID:-//eventon.com NONSGML v1.0//EN
CALSCALE:GREGORIAN
METHOD:PUBLISH
BEGIN:VEVENT
UID:69ea3af1548be
DTSTAMP:20260423T152953Z
DTSTART:20231206
DTEND:20231207
LOCATION:
SUMMARY:BlackRiver School (Far Hills\,  NJ)
DESCRIPTION:BlackRiver School (Far Hills\,  NJ)\nhttps://chasingchildhooddo
 c.com/events/blackriver-school-far-hills-nj/
URL:https://chasingchildhooddoc.com/events/blackriver-school-far-hills-nj/
END:VEVENT
END:VCALENDAR