BEGIN:VCALENDAR
VERSION:2.0
PRODID:-//eventon.com NONSGML v1.0//EN
CALSCALE:GREGORIAN
METHOD:PUBLISH
BEGIN:VEVENT
UID:69ea3aa7e24fb
DTSTAMP:20260423T152839Z
DTSTART:20231210
DTEND:20231211
LOCATION:
SUMMARY:22nd PS of Kalamata (Kalamata\,  Greece)
DESCRIPTION:22nd PS of Kalamata (Kalamata\,  Greece)\nhttps://chasingchildh
 ooddoc.com/events/22nd-ps-of-kalamata-kalamata-greece/
URL:https://chasingchildhooddoc.com/events/22nd-ps-of-kalamata-kalamata-greece/
END:VEVENT
END:VCALENDAR