BEGIN:VCALENDAR
VERSION:2.0
PRODID:-//eventon.com NONSGML v1.0//EN
CALSCALE:GREGORIAN
METHOD:PUBLISH
BEGIN:VEVENT
UID:69ea3a9d2d8cc
DTSTAMP:20260423T152829Z
DTSTART:20231212
DTEND:20231213
LOCATION:
SUMMARY:Ballan Public Schools (Ballan\,  Victoria)
DESCRIPTION:Ballan Public Schools (Ballan\,  Victoria)\nhttps://chasingchil
 dhooddoc.com/events/ballan-public-schools-ballan-victoria/
URL:https://chasingchildhooddoc.com/events/ballan-public-schools-ballan-victoria/
END:VEVENT
END:VCALENDAR