BEGIN:VCALENDAR
VERSION:2.0
PRODID:-//eventon.com NONSGML v1.0//EN
CALSCALE:GREGORIAN
METHOD:PUBLISH
BEGIN:VEVENT
UID:69ea3ad4cd620
DTSTAMP:20260423T152924Z
DTSTART:20231213
DTEND:20231214
LOCATION:
SUMMARY:Dixon & Associates Psychotherapy & Consulting Services (Georgetown\,  Ontario)
DESCRIPTION:Dixon &#038; Associates Psychotherapy &#038; Consulting Service
 s (Georgetown\,  Ontario)\nhttps://chasingchildhooddoc.com/events/dixon-ass
 ociates-psychotherapy-consulting-services-georgetown-ontario/
URL:https://chasingchildhooddoc.com/events/dixon-associates-psychotherapy-consulting-services-georgetown-ontario/
END:VEVENT
END:VCALENDAR