BEGIN:VCALENDAR
VERSION:2.0
PRODID:-//eventon.com NONSGML v1.0//EN
CALSCALE:GREGORIAN
METHOD:PUBLISH
BEGIN:VEVENT
UID:69ea3a990095f
DTSTAMP:20260423T152825Z
DTSTART:20240104
DTEND:20240105
LOCATION:
SUMMARY:Western Illinois Museum (Macomb\,  IL)
DESCRIPTION:Western Illinois Museum (Macomb\,  IL)\nhttps://chasingchildhoo
 ddoc.com/events/western-illinois-museum-macomb-il/
URL:https://chasingchildhooddoc.com/events/western-illinois-museum-macomb-il/
END:VEVENT
END:VCALENDAR