BEGIN:VCALENDAR
VERSION:2.0
PRODID:-//eventon.com NONSGML v1.0//EN
CALSCALE:GREGORIAN
METHOD:PUBLISH
BEGIN:VEVENT
UID:69ea3ad26fe09
DTSTAMP:20260423T152922Z
DTSTART:20240112
DTEND:20240113
LOCATION:
SUMMARY:Nazareth Catholic School (Grovedale\,  Victoria)
DESCRIPTION:Nazareth Catholic School (Grovedale\,  Victoria)\nhttps://chasi
 ngchildhooddoc.com/events/nazareth-catholic-school-grovedale-victoria/
URL:https://chasingchildhooddoc.com/events/nazareth-catholic-school-grovedale-victoria/
END:VEVENT
END:VCALENDAR