BEGIN:VCALENDAR
VERSION:2.0
PRODID:-//eventon.com NONSGML v1.0//EN
CALSCALE:GREGORIAN
METHOD:PUBLISH
BEGIN:VEVENT
UID:69ea3a9a79a48
DTSTAMP:20260423T152826Z
DTSTART:20240113
DTEND:20240114
LOCATION:
SUMMARY:Calgary Literacy Services (Calgary\,  AB)
DESCRIPTION:Calgary Literacy Services (Calgary\,  AB)\nhttps://chasingchild
 hooddoc.com/events/calgary-literacy-services-calgary-ab/
URL:https://chasingchildhooddoc.com/events/calgary-literacy-services-calgary-ab/
END:VEVENT
END:VCALENDAR