BEGIN:VCALENDAR
VERSION:2.0
PRODID:-//eventon.com NONSGML v1.0//EN
CALSCALE:GREGORIAN
METHOD:PUBLISH
BEGIN:VEVENT
UID:69ea39d9c6513
DTSTAMP:20260423T152513Z
DTSTART:20240116
DTEND:20240117
LOCATION:
SUMMARY:Shreve Memorial Library (Shreveport\,  LA)
DESCRIPTION:Shreve Memorial Library (Shreveport\,  LA)\nhttps://chasingchil
 dhooddoc.com/events/shreve-memorial-library-shreveport-la/
URL:https://chasingchildhooddoc.com/events/shreve-memorial-library-shreveport-la/
END:VEVENT
END:VCALENDAR