BEGIN:VCALENDAR
VERSION:2.0
PRODID:-//eventon.com NONSGML v1.0//EN
CALSCALE:GREGORIAN
METHOD:PUBLISH
BEGIN:VEVENT
UID:69ea3afde2ae7
DTSTAMP:20260423T153005Z
DTSTART:20240116
DTEND:20240117
LOCATION:
SUMMARY:Idaho Children's Trust Fund/Prevent Child Abuse Idaho (Boise\,  ID)
DESCRIPTION:Idaho Children's Trust Fund/Prevent Child Abuse Idaho (Boise\, 
  ID)\nhttps://chasingchildhooddoc.com/events/idaho-childrens-trust-fund-pre
 vent-child-abuse-idaho-boise-id/
URL:https://chasingchildhooddoc.com/events/idaho-childrens-trust-fund-prevent-child-abuse-idaho-boise-id/
END:VEVENT
END:VCALENDAR