BEGIN:VCALENDAR
VERSION:2.0
PRODID:-//eventon.com NONSGML v1.0//EN
CALSCALE:GREGORIAN
METHOD:PUBLISH
BEGIN:VEVENT
UID:69ea3b4636803
DTSTAMP:20260423T153118Z
DTSTART:20240118
DTEND:20240119
LOCATION:
SUMMARY:Meadowbrook Waldorf School (West Kingston\,  RI)
DESCRIPTION:Meadowbrook Waldorf School (West Kingston\,  RI)\nhttps://chasi
 ngchildhooddoc.com/events/meadowbrook-waldorf-school-west-kingston-ri/
URL:https://chasingchildhooddoc.com/events/meadowbrook-waldorf-school-west-kingston-ri/
END:VEVENT
END:VCALENDAR