BEGIN:VCALENDAR
VERSION:2.0
PRODID:-//eventon.com NONSGML v1.0//EN
CALSCALE:GREGORIAN
METHOD:PUBLISH
BEGIN:VEVENT
UID:69ea3a0ef1822
DTSTAMP:20260423T152606Z
DTSTART:20240119
DTEND:20240120
LOCATION:
SUMMARY:Thompson Rivers University (Kamloops\,  British Colunbia)
DESCRIPTION:Thompson Rivers University (Kamloops\,  British Colunbia)\nhttp
 s://chasingchildhooddoc.com/events/thompson-rivers-university-kamloops-brit
 ish-colunbia/
URL:https://chasingchildhooddoc.com/events/thompson-rivers-university-kamloops-british-colunbia/
END:VEVENT
END:VCALENDAR