BEGIN:VCALENDAR
VERSION:2.0
PRODID:-//eventon.com NONSGML v1.0//EN
CALSCALE:GREGORIAN
METHOD:PUBLISH
BEGIN:VEVENT
UID:69ea3aec3f96f
DTSTAMP:20260423T152948Z
DTSTART:20240121
DTEND:20240122
LOCATION:
SUMMARY:Village School (Charlottesville\,  VA)
DESCRIPTION:Village School (Charlottesville\,  VA)\nhttps://chasingchildhoo
 ddoc.com/events/village-school-charlottesville-va/
URL:https://chasingchildhooddoc.com/events/village-school-charlottesville-va/
END:VEVENT
END:VCALENDAR