BEGIN:VCALENDAR
VERSION:2.0
PRODID:-//eventon.com NONSGML v1.0//EN
CALSCALE:GREGORIAN
METHOD:PUBLISH
BEGIN:VEVENT
UID:69ea3afaa1477
DTSTAMP:20260423T153002Z
DTSTART:20240129
DTEND:20240130
LOCATION:
SUMMARY:Winnipeg Teachers Group (Winnipeg\,  Manitoba)
DESCRIPTION:Winnipeg Teachers Group (Winnipeg\,  Manitoba)\nhttps://chasing
 childhooddoc.com/events/winnipeg-teachers-group-winnipeg-manitoba/
URL:https://chasingchildhooddoc.com/events/winnipeg-teachers-group-winnipeg-manitoba/
END:VEVENT
END:VCALENDAR