BEGIN:VCALENDAR
VERSION:2.0
PRODID:-//eventon.com NONSGML v1.0//EN
CALSCALE:GREGORIAN
METHOD:PUBLISH
BEGIN:VEVENT
UID:69ea3af8e87c4
DTSTAMP:20260423T153000Z
DTSTART:20240130
DTEND:20240131
LOCATION:
SUMMARY:Carya Society of Calgary (Calgary\,  Alberta)
DESCRIPTION:Carya Society of Calgary (Calgary\,  Alberta)\nhttps://chasingc
 hildhooddoc.com/events/carya-society-of-calgary-calgary-alberta/
URL:https://chasingchildhooddoc.com/events/carya-society-of-calgary-calgary-alberta/
END:VEVENT
END:VCALENDAR