BEGIN:VCALENDAR
VERSION:2.0
PRODID:-//eventon.com NONSGML v1.0//EN
CALSCALE:GREGORIAN
METHOD:PUBLISH
BEGIN:VEVENT
UID:69ea3b05a890c
DTSTAMP:20260423T153013Z
DTSTART:20240201
DTEND:20240202
LOCATION:
SUMMARY:Kalamazoo Public Schools (Kalamazoo\,  MI)
DESCRIPTION:Kalamazoo Public Schools (Kalamazoo\,  MI)\nhttps://chasingchil
 dhooddoc.com/events/kalamazoo-public-schools-kalamazoo-mi/
URL:https://chasingchildhooddoc.com/events/kalamazoo-public-schools-kalamazoo-mi/
END:VEVENT
END:VCALENDAR