BEGIN:VCALENDAR
VERSION:2.0
PRODID:-//eventon.com NONSGML v1.0//EN
CALSCALE:GREGORIAN
METHOD:PUBLISH
BEGIN:VEVENT
UID:69ea39da6803d
DTSTAMP:20260423T152514Z
DTSTART:20240206
DTEND:20240207
LOCATION:
SUMMARY:Chesterfield County Public Schools (Midlothian\,  VA)
DESCRIPTION:Chesterfield County Public Schools (Midlothian\,  VA)\nhttps://
 chasingchildhooddoc.com/events/chesterfield-county-public-schools-midlothia
 n-va-3/
URL:https://chasingchildhooddoc.com/events/chesterfield-county-public-schools-midlothian-va-3/
END:VEVENT
END:VCALENDAR