BEGIN:VCALENDAR
VERSION:2.0
PRODID:-//eventon.com NONSGML v1.0//EN
CALSCALE:GREGORIAN
METHOD:PUBLISH
BEGIN:VEVENT
UID:69ea3a9bf05fd
DTSTAMP:20260423T152827Z
DTSTART:20240206
DTEND:20240207
LOCATION:
SUMMARY:Maltby Elementary (Snohomish\,  WA)
DESCRIPTION:Maltby Elementary (Snohomish\,  WA)\nhttps://chasingchildhooddo
 c.com/events/maltby-elementary-snohomish-wa/
URL:https://chasingchildhooddoc.com/events/maltby-elementary-snohomish-wa/
END:VEVENT
END:VCALENDAR