BEGIN:VCALENDAR
VERSION:2.0
PRODID:-//eventon.com NONSGML v1.0//EN
CALSCALE:GREGORIAN
METHOD:PUBLISH
BEGIN:VEVENT
UID:69ea3a72d932d
DTSTAMP:20260423T152746Z
DTSTART:20240212
DTEND:20240213
LOCATION:
SUMMARY:ASPEN SCHOOL DISTRICT (ASPEN\,  CO)
DESCRIPTION:ASPEN SCHOOL DISTRICT (ASPEN\,  CO)\nhttps://chasingchildhooddo
 c.com/events/aspen-school-district-aspen-co/
URL:https://chasingchildhooddoc.com/events/aspen-school-district-aspen-co/
END:VEVENT
END:VCALENDAR