BEGIN:VCALENDAR
VERSION:2.0
PRODID:-//eventon.com NONSGML v1.0//EN
CALSCALE:GREGORIAN
METHOD:PUBLISH
BEGIN:VEVENT
UID:69ea3ad3e9bcc
DTSTAMP:20260423T152923Z
DTSTART:20240214
DTEND:20240215
LOCATION:
SUMMARY:CIRCLE OF LIFE REDISCOVERY COMMUNITY INTEREST COMPANY (Lewes\,  East Sussex)
DESCRIPTION:CIRCLE OF LIFE REDISCOVERY COMMUNITY INTEREST COMPANY (Lewes\, 
  East Sussex)\nhttps://chasingchildhooddoc.com/events/circle-of-life-redisc
 overy-community-interest-company-lewes-east-sussex/
URL:https://chasingchildhooddoc.com/events/circle-of-life-rediscovery-community-interest-company-lewes-east-sussex/
END:VEVENT
END:VCALENDAR