BEGIN:VCALENDAR
VERSION:2.0
PRODID:-//eventon.com NONSGML v1.0//EN
CALSCALE:GREGORIAN
METHOD:PUBLISH
BEGIN:VEVENT
UID:69ea3a86d50c4
DTSTAMP:20260423T152806Z
DTSTART:20240215
DTEND:20240216
LOCATION:
SUMMARY:ESC of Western Reserve (Painesville\,  OH)
DESCRIPTION:ESC of Western Reserve (Painesville\,  OH)\nhttps://chasingchil
 dhooddoc.com/events/esc-of-western-reserve-painesville-oh/
URL:https://chasingchildhooddoc.com/events/esc-of-western-reserve-painesville-oh/
END:VEVENT
END:VCALENDAR