BEGIN:VCALENDAR
VERSION:2.0
PRODID:-//eventon.com NONSGML v1.0//EN
CALSCALE:GREGORIAN
METHOD:PUBLISH
BEGIN:VEVENT
UID:69ea3a11c293e
DTSTAMP:20260423T152609Z
DTSTART:20240217
DTEND:20240218
LOCATION:
SUMMARY:PS/MS 20 (Bronx\,  NY)
DESCRIPTION:PS/MS 20 (Bronx\,  NY)\nhttps://chasingchildhooddoc.com/events/
 ps-ms-20-bronx-ny/
URL:https://chasingchildhooddoc.com/events/ps-ms-20-bronx-ny/
END:VEVENT
END:VCALENDAR