BEGIN:VCALENDAR
VERSION:2.0
PRODID:-//eventon.com NONSGML v1.0//EN
CALSCALE:GREGORIAN
METHOD:PUBLISH
BEGIN:VEVENT
UID:69ea3ad291040
DTSTAMP:20260423T152922Z
DTSTART:20240223
DTEND:20240224
LOCATION:
SUMMARY:Boston College (Chestnut Hill\,  MA)
DESCRIPTION:Boston College (Chestnut Hill\,  MA)\nhttps://chasingchildhoodd
 oc.com/events/boston-college-chestnut-hill-ma/
URL:https://chasingchildhooddoc.com/events/boston-college-chestnut-hill-ma/
END:VEVENT
END:VCALENDAR