BEGIN:VCALENDAR
VERSION:2.0
PRODID:-//eventon.com NONSGML v1.0//EN
CALSCALE:GREGORIAN
METHOD:PUBLISH
BEGIN:VEVENT
UID:69ea3ad482cd6
DTSTAMP:20260423T152924Z
DTSTART:20240227
DTEND:20240228
LOCATION:
SUMMARY:Chesterfield County Public Schools (Midlothian\,  VA)
DESCRIPTION:Chesterfield County Public Schools (Midlothian\,  VA)\nhttps://
 chasingchildhooddoc.com/events/chesterfield-county-public-schools-midlothia
 n-va-2/
URL:https://chasingchildhooddoc.com/events/chesterfield-county-public-schools-midlothian-va-2/
END:VEVENT
END:VCALENDAR