BEGIN:VCALENDAR
VERSION:2.0
PRODID:-//eventon.com NONSGML v1.0//EN
CALSCALE:GREGORIAN
METHOD:PUBLISH
BEGIN:VEVENT
UID:69ea3a9cac8bf
DTSTAMP:20260423T152828Z
DTSTART:20240228
DTEND:20240229
LOCATION:
SUMMARY:Chester County ACEs Coalition (West Chester\,  PA)
DESCRIPTION:Chester County ACEs Coalition (West Chester\,  PA)\nhttps://cha
 singchildhooddoc.com/events/chester-county-aces-coalition-west-chester-pa/
URL:https://chasingchildhooddoc.com/events/chester-county-aces-coalition-west-chester-pa/
END:VEVENT
END:VCALENDAR