BEGIN:VCALENDAR
VERSION:2.0
PRODID:-//eventon.com NONSGML v1.0//EN
CALSCALE:GREGORIAN
METHOD:PUBLISH
BEGIN:VEVENT
UID:69ea3afc1a9ec
DTSTAMP:20260423T153004Z
DTSTART:20240301
DTEND:20240302
LOCATION:
SUMMARY:German Children and Youth Foundation (Berlin\,  Germany)
DESCRIPTION:German Children and Youth Foundation (Berlin\,  Germany)\nhttps
 ://chasingchildhooddoc.com/events/german-children-and-youth-foundation-berl
 in-berlin/
URL:https://chasingchildhooddoc.com/events/german-children-and-youth-foundation-berlin-berlin/
END:VEVENT
END:VCALENDAR