BEGIN:VCALENDAR
VERSION:2.0
PRODID:-//eventon.com NONSGML v1.0//EN
CALSCALE:GREGORIAN
METHOD:PUBLISH
BEGIN:VEVENT
UID:69ea3af3e520e
DTSTAMP:20260423T152955Z
DTSTART:20240302
DTEND:20240303
LOCATION:
SUMMARY:Electric Palace Cinema Hastings (Hastings\,  East sussex)
DESCRIPTION:Electric Palace Cinema Hastings (Hastings\,  East sussex)\nhttp
 s://chasingchildhooddoc.com/events/electric-palace-cinema-hastings-hastings
 -east-sussex/
URL:https://chasingchildhooddoc.com/events/electric-palace-cinema-hastings-hastings-east-sussex/
END:VEVENT
END:VCALENDAR