BEGIN:VCALENDAR
VERSION:2.0
PRODID:-//eventon.com NONSGML v1.0//EN
CALSCALE:GREGORIAN
METHOD:PUBLISH
BEGIN:VEVENT
UID:69ea3b04dbb5b
DTSTAMP:20260423T153012Z
DTSTART:20240314
DTEND:20240315
LOCATION:
SUMMARY:Tending the Children’s Fire (Melbourne\,  Victoria)
DESCRIPTION:Tending the Children’s Fire (Melbourne\,  Victoria)\nhttps://
 chasingchildhooddoc.com/events/tending-the-childrens-fire-melbourne-victori
 a/
URL:https://chasingchildhooddoc.com/events/tending-the-childrens-fire-melbourne-victoria/
END:VEVENT
END:VCALENDAR