BEGIN:VCALENDAR
VERSION:2.0
PRODID:-//eventon.com NONSGML v1.0//EN
CALSCALE:GREGORIAN
METHOD:PUBLISH
BEGIN:VEVENT
UID:69ea3a83b2240
DTSTAMP:20260423T152803Z
DTSTART:20240315
DTEND:20240316
LOCATION:
SUMMARY:Brightwood Elementary School (Washington\,  DC)
DESCRIPTION:Brightwood Elementary School (Washington\,  DC)\nhttps://chasin
 gchildhooddoc.com/events/brightwood-elementary-school-washington-dc/
URL:https://chasingchildhooddoc.com/events/brightwood-elementary-school-washington-dc/
END:VEVENT
END:VCALENDAR