BEGIN:VCALENDAR
VERSION:2.0
PRODID:-//eventon.com NONSGML v1.0//EN
CALSCALE:GREGORIAN
METHOD:PUBLISH
BEGIN:VEVENT
UID:69ea3a8697556
DTSTAMP:20260423T152806Z
DTSTART:20240316
DTEND:20240317
LOCATION:
SUMMARY:Montessori Foundations of Chicago (Chicago\,  IL)
DESCRIPTION:Montessori Foundations of Chicago (Chicago\,  IL)\nhttps://chas
 ingchildhooddoc.com/events/montessori-foundations-of-chicago-chicago-il/
URL:https://chasingchildhooddoc.com/events/montessori-foundations-of-chicago-chicago-il/
END:VEVENT
END:VCALENDAR