BEGIN:VCALENDAR
VERSION:2.0
PRODID:-//eventon.com NONSGML v1.0//EN
CALSCALE:GREGORIAN
METHOD:PUBLISH
BEGIN:VEVENT
UID:69ea3aa6350a8
DTSTAMP:20260423T152838Z
DTSTART:20240321
DTEND:20240322
LOCATION:
SUMMARY:Powhatan County Public Schools (Powhatan\,  VA)
DESCRIPTION:Powhatan County Public Schools (Powhatan\,  VA)\nhttps://chasin
 gchildhooddoc.com/events/powhatan-county-public-schools-powhatan-va/
URL:https://chasingchildhooddoc.com/events/powhatan-county-public-schools-powhatan-va/
END:VEVENT
END:VCALENDAR