BEGIN:VCALENDAR
VERSION:2.0
PRODID:-//eventon.com NONSGML v1.0//EN
CALSCALE:GREGORIAN
METHOD:PUBLISH
BEGIN:VEVENT
UID:69ea3b03af87b
DTSTAMP:20260423T153011Z
DTSTART:20240325
DTEND:20240326
LOCATION:
SUMMARY:McGlannan Elementary School (Miami\,  FL)
DESCRIPTION:McGlannan Elementary School (Miami\,  FL)\nhttps://chasingchild
 hooddoc.com/events/mcglannan-elementary-school-miami-fl/
URL:https://chasingchildhooddoc.com/events/mcglannan-elementary-school-miami-fl/
END:VEVENT
END:VCALENDAR