BEGIN:VCALENDAR
VERSION:2.0
PRODID:-//eventon.com NONSGML v1.0//EN
CALSCALE:GREGORIAN
METHOD:PUBLISH
BEGIN:VEVENT
UID:69ea3a72e3639
DTSTAMP:20260423T152746Z
DTSTART:20240330
DTEND:20240331
LOCATION:
SUMMARY:Equine Assisted Training Institute (Georgetown\,  TX)
DESCRIPTION:Equine Assisted Training Institute (Georgetown\,  TX)\nhttps://
 chasingchildhooddoc.com/events/equine-assisted-training-institute-georgetow
 n-tx/
URL:https://chasingchildhooddoc.com/events/equine-assisted-training-institute-georgetown-tx/
END:VEVENT
END:VCALENDAR