BEGIN:VCALENDAR
VERSION:2.0
PRODID:-//eventon.com NONSGML v1.0//EN
CALSCALE:GREGORIAN
METHOD:PUBLISH
BEGIN:VEVENT
UID:69ea3a98ece5e
DTSTAMP:20260423T152824Z
DTSTART:20240410
DTEND:20240411
LOCATION:
SUMMARY:Lyon Montessori School (Lyon\,  Rhone)
DESCRIPTION:Lyon Montessori School (Lyon\,  Rhone)\nhttps://chasingchildhoo
 ddoc.com/events/lyon-montessori-school-lyon-rhone/
URL:https://chasingchildhooddoc.com/events/lyon-montessori-school-lyon-rhone/
END:VEVENT
END:VCALENDAR