BEGIN:VCALENDAR
VERSION:2.0
PRODID:-//eventon.com NONSGML v1.0//EN
CALSCALE:GREGORIAN
METHOD:PUBLISH
BEGIN:VEVENT
UID:69ea3a98c9526
DTSTAMP:20260423T152824Z
DTSTART:20240426
DTEND:20240427
LOCATION:
SUMMARY:Yale University (New Haven\,  CT)
DESCRIPTION:Yale University (New Haven\,  CT)\nhttps://chasingchildhooddoc.
 com/events/yale-university-new-haven-ct/
URL:https://chasingchildhooddoc.com/events/yale-university-new-haven-ct/
END:VEVENT
END:VCALENDAR