BEGIN:VCALENDAR
VERSION:2.0
PRODID:-//eventon.com NONSGML v1.0//EN
CALSCALE:GREGORIAN
METHOD:PUBLISH
BEGIN:VEVENT
UID:69ea3aab00fcd
DTSTAMP:20260423T152843Z
DTSTART:20240506
DTEND:20240507
LOCATION:
SUMMARY:Central Academy (Des Moines\,  IA)
DESCRIPTION:Central Academy (Des Moines\,  IA)\nhttps://chasingchildhooddoc
 .com/events/central-academy-des-moines-ia/
URL:https://chasingchildhooddoc.com/events/central-academy-des-moines-ia/
END:VEVENT
END:VCALENDAR