BEGIN:VCALENDAR
VERSION:2.0
PRODID:-//eventon.com NONSGML v1.0//EN
CALSCALE:GREGORIAN
METHOD:PUBLISH
BEGIN:VEVENT
UID:69ea3b0586a44
DTSTAMP:20260423T153013Z
DTSTART:20240507
DTEND:20240508
LOCATION:
SUMMARY:DC Teacher's Group (Washington\,  DC)
DESCRIPTION:DC Teacher's Group (Washington\,  DC)\nhttps://chasingchildhood
 doc.com/events/dc-teachers-group-washington-dc/
URL:https://chasingchildhooddoc.com/events/dc-teachers-group-washington-dc/
END:VEVENT
END:VCALENDAR