BEGIN:VCALENDAR
VERSION:2.0
PRODID:-//eventon.com NONSGML v1.0//EN
CALSCALE:GREGORIAN
METHOD:PUBLISH
BEGIN:VEVENT
UID:69ea3aa727618
DTSTAMP:20260423T152839Z
DTSTART:20240512
DTEND:20240513
LOCATION:
SUMMARY:The Harker School (San Jose\,  CA)
DESCRIPTION:The Harker School (San Jose\,  CA)\nhttps://chasingchildhooddoc
 .com/events/the-harker-school-san-jose-ca/
URL:https://chasingchildhooddoc.com/events/the-harker-school-san-jose-ca/
END:VEVENT
END:VCALENDAR