BEGIN:VCALENDAR
VERSION:2.0
PRODID:-//eventon.com NONSGML v1.0//EN
CALSCALE:GREGORIAN
METHOD:PUBLISH
BEGIN:VEVENT
UID:69ea3a4f40e71
DTSTAMP:20260423T152711Z
DTSTART:20240514
DTEND:20240515
LOCATION:
SUMMARY:Early Learning Center PreK (Tamassee\,  SC)
DESCRIPTION:Early Learning Center PreK (Tamassee\,  SC)\nhttps://chasingchi
 ldhooddoc.com/events/early-learning-center-prek-tamassee-sc/
URL:https://chasingchildhooddoc.com/events/early-learning-center-prek-tamassee-sc/
END:VEVENT
END:VCALENDAR