BEGIN:VCALENDAR
VERSION:2.0
PRODID:-//eventon.com NONSGML v1.0//EN
CALSCALE:GREGORIAN
METHOD:PUBLISH
BEGIN:VEVENT
UID:69ea3aee0eac0
DTSTAMP:20260423T152950Z
DTSTART:20240520
DTEND:20240521
LOCATION:
SUMMARY:Randolph Partnership for Chidren (Asheboro\,  NC)
DESCRIPTION:Randolph Partnership for Chidren (Asheboro\,  NC)\nhttps://chas
 ingchildhooddoc.com/events/randolph-partnership-for-chidren-asheboro-nc/
URL:https://chasingchildhooddoc.com/events/randolph-partnership-for-chidren-asheboro-nc/
END:VEVENT
END:VCALENDAR