BEGIN:VCALENDAR
VERSION:2.0
PRODID:-//eventon.com NONSGML v1.0//EN
CALSCALE:GREGORIAN
METHOD:PUBLISH
BEGIN:VEVENT
UID:69ea3aab22d3c
DTSTAMP:20260423T152843Z
DTSTART:20240528
DTEND:20240529
LOCATION:
SUMMARY:Shepherd Elementary School (Washington\,  DC)
DESCRIPTION:Shepherd Elementary School (Washington\,  DC)\nhttps://chasingc
 hildhooddoc.com/events/shepherd-elementary-school-washington-dc/
URL:https://chasingchildhooddoc.com/events/shepherd-elementary-school-washington-dc/
END:VEVENT
END:VCALENDAR