BEGIN:VCALENDAR
VERSION:2.0
PRODID:-//eventon.com NONSGML v1.0//EN
CALSCALE:GREGORIAN
METHOD:PUBLISH
BEGIN:VEVENT
UID:69ea3afad71e8
DTSTAMP:20260423T153002Z
DTSTART:20240529
DTEND:20240530
LOCATION:
SUMMARY:Flushing Ecc (Flushing\,  MI)
DESCRIPTION:Flushing Ecc (Flushing\,  MI)\nhttps://chasingchildhooddoc.com/
 events/flushing-ecc-flushing-mi/
URL:https://chasingchildhooddoc.com/events/flushing-ecc-flushing-mi/
END:VEVENT
END:VCALENDAR