BEGIN:VCALENDAR
VERSION:2.0
PRODID:-//eventon.com NONSGML v1.0//EN
CALSCALE:GREGORIAN
METHOD:PUBLISH
BEGIN:VEVENT
UID:69ea4e46908c5
DTSTAMP:20260423T165222Z
DTSTART:20240531
DTEND:20240601
LOCATION:
SUMMARY:BASE by Pros (Lynwood\,  WA)
DESCRIPTION:BASE by Pros (Lynwood\,  WA)\nhttps://chasingchildhooddoc.com/e
 vents/base-by-pros-lynwood-wa/
URL:https://chasingchildhooddoc.com/events/base-by-pros-lynwood-wa/
END:VEVENT
END:VCALENDAR