BEGIN:VCALENDAR
VERSION:2.0
PRODID:-//eventon.com NONSGML v1.0//EN
CALSCALE:GREGORIAN
METHOD:PUBLISH
BEGIN:VEVENT
UID:69ea3b011884c
DTSTAMP:20260423T153009Z
DTSTART:20240910
DTEND:20240911
LOCATION:
SUMMARY:Math Rocks! (Uvalde\,  TX)
DESCRIPTION:Math Rocks! (Uvalde\,  TX)\nhttps://chasingchildhooddoc.com/eve
 nts/math-rocks-uvalde-tx/
URL:https://chasingchildhooddoc.com/events/math-rocks-uvalde-tx/
END:VEVENT
END:VCALENDAR