BEGIN:VCALENDAR
VERSION:2.0
PRODID:-//eventon.com NONSGML v1.0//EN
CALSCALE:GREGORIAN
METHOD:PUBLISH
BEGIN:VEVENT
UID:69ea3aa91ff3d
DTSTAMP:20260423T152841Z
DTSTART:20240916
DTEND:20240917
LOCATION:
SUMMARY:St. John's University (Queens\,  NY)
DESCRIPTION:St. John's University (Queens\,  NY)\nhttps://chasingchildhoodd
 oc.com/events/st-johns-university-queens-ny/
URL:https://chasingchildhooddoc.com/events/st-johns-university-queens-ny/
END:VEVENT
END:VCALENDAR