BEGIN:VCALENDAR
VERSION:2.0
PRODID:-//eventon.com NONSGML v1.0//EN
CALSCALE:GREGORIAN
METHOD:PUBLISH
BEGIN:VEVENT
UID:69ea3a98ac867
DTSTAMP:20260423T152824Z
DTSTART:20240917
DTEND:20240918
LOCATION:
SUMMARY:The Spanish Tot (Dallas\,  TX)
DESCRIPTION:The Spanish Tot (Dallas\,  TX)\nhttps://chasingchildhooddoc.com
 /events/the-spanish-tot-dallas-tx/
URL:https://chasingchildhooddoc.com/events/the-spanish-tot-dallas-tx/
END:VEVENT
END:VCALENDAR