BEGIN:VCALENDAR
VERSION:2.0
PRODID:-//eventon.com NONSGML v1.0//EN
CALSCALE:GREGORIAN
METHOD:PUBLISH
BEGIN:VEVENT
UID:69ea3af89fec0
DTSTAMP:20260423T153000Z
DTSTART:20240919
DTEND:20240920
LOCATION:
SUMMARY:The Knowledge Center at Chaddock (Quincy\,  IL)
DESCRIPTION:The Knowledge Center at Chaddock (Quincy\,  IL)\nhttps://chasin
 gchildhooddoc.com/events/the-knowledge-center-at-chaddock-quincy-il/
URL:https://chasingchildhooddoc.com/events/the-knowledge-center-at-chaddock-quincy-il/
END:VEVENT
END:VCALENDAR