BEGIN:VCALENDAR
VERSION:2.0
PRODID:-//eventon.com NONSGML v1.0//EN
CALSCALE:GREGORIAN
METHOD:PUBLISH
BEGIN:VEVENT
UID:69ea3af17f45f
DTSTAMP:20260423T152953Z
DTSTART:20240925
DTEND:20240926
LOCATION:
SUMMARY:Gulf Coast Center (Galveston\,  TX)
DESCRIPTION:Gulf Coast Center (Galveston\,  TX)\nhttps://chasingchildhooddo
 c.com/events/gulf-coast-center-galveston-tx/
URL:https://chasingchildhooddoc.com/events/gulf-coast-center-galveston-tx/
END:VEVENT
END:VCALENDAR