BEGIN:VCALENDAR
VERSION:2.0
PRODID:-//eventon.com NONSGML v1.0//EN
CALSCALE:GREGORIAN
METHOD:PUBLISH
BEGIN:VEVENT
UID:69ea4eb41a9ee
DTSTAMP:20260423T165412Z
DTSTART:20240926
DTEND:20240927
LOCATION:
SUMMARY:Auburn Union School District (Auburn\,  CA)
DESCRIPTION:Auburn Union School District (Auburn\,  CA)\nhttps://chasingchi
 ldhooddoc.com/events/auburn-union-school-district-auburn-ca/
URL:https://chasingchildhooddoc.com/events/auburn-union-school-district-auburn-ca/
END:VEVENT
END:VCALENDAR