BEGIN:VCALENDAR
VERSION:2.0
PRODID:-//eventon.com NONSGML v1.0//EN
CALSCALE:GREGORIAN
METHOD:PUBLISH
BEGIN:VEVENT
UID:69ea3a79e7ebc
DTSTAMP:20260423T152753Z
DTSTART:20240930
DTEND:20241001
LOCATION:
SUMMARY:BASE by Pros (Lynnwood\,  WA)
DESCRIPTION:BASE by Pros (Lynnwood\,  WA)\nhttps://chasingchildhooddoc.com/
 events/base-by-pros-lynnwood-wa/
URL:https://chasingchildhooddoc.com/events/base-by-pros-lynnwood-wa/
END:VEVENT
END:VCALENDAR